BEGIN:VCALENDAR
VERSION:2.0
PRODID:-//Barrie AA Intergroup - ECPv6.15.11//NONSGML v1.0//EN
CALSCALE:GREGORIAN
METHOD:PUBLISH
X-ORIGINAL-URL:https://barrieaa.com
X-WR-CALDESC:Events for Barrie AA Intergroup
REFRESH-INTERVAL;VALUE=DURATION:PT1H
X-Robots-Tag:noindex
X-PUBLISHED-TTL:PT1H
BEGIN:VTIMEZONE
TZID:America/Toronto
BEGIN:DAYLIGHT
TZOFFSETFROM:-0500
TZOFFSETTO:-0400
TZNAME:EDT
DTSTART:20230312T070000
END:DAYLIGHT
BEGIN:STANDARD
TZOFFSETFROM:-0400
TZOFFSETTO:-0500
TZNAME:EST
DTSTART:20231105T060000
END:STANDARD
BEGIN:DAYLIGHT
TZOFFSETFROM:-0500
TZOFFSETTO:-0400
TZNAME:EDT
DTSTART:20240310T070000
END:DAYLIGHT
BEGIN:STANDARD
TZOFFSETFROM:-0400
TZOFFSETTO:-0500
TZNAME:EST
DTSTART:20241103T060000
END:STANDARD
BEGIN:DAYLIGHT
TZOFFSETFROM:-0500
TZOFFSETTO:-0400
TZNAME:EDT
DTSTART:20250309T070000
END:DAYLIGHT
BEGIN:STANDARD
TZOFFSETFROM:-0400
TZOFFSETTO:-0500
TZNAME:EST
DTSTART:20251102T060000
END:STANDARD
BEGIN:DAYLIGHT
TZOFFSETFROM:-0500
TZOFFSETTO:-0400
TZNAME:EDT
DTSTART:20260308T070000
END:DAYLIGHT
BEGIN:STANDARD
TZOFFSETFROM:-0400
TZOFFSETTO:-0500
TZNAME:EST
DTSTART:20261101T060000
END:STANDARD
BEGIN:DAYLIGHT
TZOFFSETFROM:-0500
TZOFFSETTO:-0400
TZNAME:EDT
DTSTART:20270314T070000
END:DAYLIGHT
BEGIN:STANDARD
TZOFFSETFROM:-0400
TZOFFSETTO:-0500
TZNAME:EST
DTSTART:20271107T060000
END:STANDARD
BEGIN:DAYLIGHT
TZOFFSETFROM:-0500
TZOFFSETTO:-0400
TZNAME:EDT
DTSTART:20280312T070000
END:DAYLIGHT
BEGIN:STANDARD
TZOFFSETFROM:-0400
TZOFFSETTO:-0500
TZNAME:EST
DTSTART:20281105T060000
END:STANDARD
BEGIN:DAYLIGHT
TZOFFSETFROM:-0500
TZOFFSETTO:-0400
TZNAME:EDT
DTSTART:20290311T070000
END:DAYLIGHT
BEGIN:STANDARD
TZOFFSETFROM:-0400
TZOFFSETTO:-0500
TZNAME:EST
DTSTART:20291104T060000
END:STANDARD
END:VTIMEZONE
BEGIN:VEVENT
DTSTART;VALUE=DATE:20240305
DTEND;VALUE=DATE:20280306
DTSTAMP:20260420T151404
CREATED:20240305T135746Z
LAST-MODIFIED:20240827T155044Z
UID:4251-1709596800-1835913599@barrieaa.com
SUMMARY:Barrie Intergroup - Call Centre Volunteers NEEDED
DESCRIPTION:Barrie and Intergroup Office\nJuly 31st\, 2024\nDear friends in Sobriety\, \nYour Barrie and Area Intergroup is committed to providing AA information in an organized way to promote and support service within our District (08). \nCurrently\, our office is undergoing a reorganization process. The Barrie and Area Intergroup serves as the representative voice for all meeting groups in our district\, and our effectiveness is contingent upon the engagement of these groups. We can only do as well as the Groups allow us.  We encourage you to GET INVOLVED. \nAs part of our restructuring efforts\, we need to modify the phone volunteer shifts. To facilitate this change\, we request the names and contact numbers of individuals interested in serving within the Intergroup. We aim to establish a call forwarding system for weekday evenings (Monday to Friday) starting at 4 PM and continuing until the following day\, 10 AM. Weekend calls will still be managed from Friday at 4 PM until Monday at 10 AM. Training and information will be provided either in person (preferred) or remotely. Please note that a minimum of one year of sobriety is required for this volunteer position. With sufficient volunteers\, we anticipate that the ‘on-call’ phone responsibilities can be rotated among participants. The greater the number of willing volunteers\, the less individual duty time will be necessary to cover the shifts. \nWe are also seeking ‘in-office’ phone volunteers for the shifts from 10 AM to 1 PM (Monday to Friday) and from 1 PM to 4 PM (Wednesday). \nYour participation and willingness to serve are crucial in determining how effectively our Intergroup office can offer the necessary support and services to those who reach out to us. \nShould you have any questions or require clarification\, please do not hesitate to contact me. \nYours in love and service\, \nKrystyna W \nOffice Coordinator \nIntergroup Off.:  (705)  725-8682 \n647-522-1417 \nkjagub@gmail.com \n  \nBarrie Intergroup is URGENTLY looking for volunteers for the Call Centre.  We need people for the In-Office phone line shift (max 3 hrs) or weekend On-Call shifts from the comfort of your personal phone \nMinimum of One (1) year Sobriety \nINTERRESTED IN VOLUNTEERING?\nPlease join us\, Training provided. \nFor further information contact – Krystyna W. @ (647) 522-1417 or via email @ kjagub@gmail.com \nOr call the Barrie Intergroup office at (705) 725-8682
URL:https://barrieaa.com/events/barrie-intergroup-call-centre-volunteers-needed/
LOCATION:Barrie Intergroup Office\, 80 Bradford Street\, Barrie\, Ontario\, Canada
ATTACH;FMTTYPE=image/jpeg:https://barrieaa.com/wp-content/uploads/2024/03/0xccpibl3m.jpg
ORGANIZER;CN="Barrie AA - Office Coordinator (Krystyna W.)":MAILTO:kjagub@gmail.com
END:VEVENT
BEGIN:VEVENT
DTSTART;VALUE=DATE:20260305
DTEND;VALUE=DATE:20260501
DTSTAMP:20260420T151404
CREATED:20260310T021456Z
LAST-MODIFIED:20260310T024113Z
UID:5580-1772668800-1777593599@barrieaa.com
SUMMARY:Birthday Celebrations March/April 2026
DESCRIPTION:
URL:https://barrieaa.com/events/birthday-celebrations-march-april-2026/
LOCATION:District 8\, 15 Fraser Street\, Angus\, Ontario\, L0M 1B0\, Canada
CATEGORIES:Anniversary,Medallion Celebration
ATTACH;FMTTYPE=image/webp:https://barrieaa.com/wp-content/uploads/2026/03/BIRTHDAY-CELEBRATIONS-D8-March-April-2026.webp
END:VEVENT
END:VCALENDAR