BEGIN:VCALENDAR
VERSION:2.0
PRODID:-//Barrie AA Intergroup - ECPv6.15.11//NONSGML v1.0//EN
CALSCALE:GREGORIAN
METHOD:PUBLISH
X-WR-CALNAME:Barrie AA Intergroup
X-ORIGINAL-URL:https://barrieaa.com
X-WR-CALDESC:Events for Barrie AA Intergroup
REFRESH-INTERVAL;VALUE=DURATION:PT1H
X-Robots-Tag:noindex
X-PUBLISHED-TTL:PT1H
BEGIN:VTIMEZONE
TZID:America/Toronto
BEGIN:DAYLIGHT
TZOFFSETFROM:-0500
TZOFFSETTO:-0400
TZNAME:EDT
DTSTART:20230312T070000
END:DAYLIGHT
BEGIN:STANDARD
TZOFFSETFROM:-0400
TZOFFSETTO:-0500
TZNAME:EST
DTSTART:20231105T060000
END:STANDARD
BEGIN:DAYLIGHT
TZOFFSETFROM:-0500
TZOFFSETTO:-0400
TZNAME:EDT
DTSTART:20240310T070000
END:DAYLIGHT
BEGIN:STANDARD
TZOFFSETFROM:-0400
TZOFFSETTO:-0500
TZNAME:EST
DTSTART:20241103T060000
END:STANDARD
BEGIN:DAYLIGHT
TZOFFSETFROM:-0500
TZOFFSETTO:-0400
TZNAME:EDT
DTSTART:20250309T070000
END:DAYLIGHT
BEGIN:STANDARD
TZOFFSETFROM:-0400
TZOFFSETTO:-0500
TZNAME:EST
DTSTART:20251102T060000
END:STANDARD
BEGIN:DAYLIGHT
TZOFFSETFROM:-0500
TZOFFSETTO:-0400
TZNAME:EDT
DTSTART:20260308T070000
END:DAYLIGHT
BEGIN:STANDARD
TZOFFSETFROM:-0400
TZOFFSETTO:-0500
TZNAME:EST
DTSTART:20261101T060000
END:STANDARD
BEGIN:DAYLIGHT
TZOFFSETFROM:-0500
TZOFFSETTO:-0400
TZNAME:EDT
DTSTART:20270314T070000
END:DAYLIGHT
BEGIN:STANDARD
TZOFFSETFROM:-0400
TZOFFSETTO:-0500
TZNAME:EST
DTSTART:20271107T060000
END:STANDARD
END:VTIMEZONE
BEGIN:VEVENT
DTSTART;TZID=America/Toronto:20260509T083000
DTEND;TZID=America/Toronto:20260509T170000
DTSTAMP:20260420T182005
CREATED:20260310T022302Z
LAST-MODIFIED:20260310T022457Z
UID:5591-1778315400-1778346000@barrieaa.com
SUMMARY:Midland & Area 2026 AA & Al-Anon Round-Up – New Beginnings
DESCRIPTION:Join the Midland & Area 2026 AA & Al-Anon Round-Up on Saturday\, May 9\, 2026 at 91 Concession Road 8 East\, Tiny\, Ontario for a full day of fellowship\, inspiration\, and recovery. The flyer’s theme is “New Beginnings\,” centered around a day of connection with both AA and Al-Anon speakers. \nDoors open at 8:30 a.m. for registration and fellowship. Attendees can also enjoy AA merchandise for sale by Healing Moments\, a snack bar with refreshments available for purchase\, and a delicious lunch catered by Dino’s Fresh Food Deli. \nThe event will feature Key Note Speaker Cameron T. from Sudbury. Admission options are $15 for a day pass\, available at the door only\, or $30 for a day pass with lunch\, with a purchase deadline of May 2\, 2026 for lunch tickets. \nFor tickets\, attendees can text or call Russell B. at 705-433-1190 or Tammy K. at 705-527-2552. An e-transfer payment option is also available at roundupmidland@gmail.com using the password Roundup. Please include the attendee’s first and last name(s) in the e-transfer comments. Tickets will be held at the door.
URL:https://barrieaa.com/events/midland-area-2026-aa-al-anon-round-up-new-beginnings/
LOCATION:Township of Tiny Community Centre\, 91 Concession Rd 8 E\, Tiny\, Ontario\, L0L 2J0\, Canada
ATTACH;FMTTYPE=image/webp:https://barrieaa.com/wp-content/uploads/2026/03/Midland-and-Area-Roundup-2026-Flyer.webp
ORGANIZER;CN="Midland & Area":MAILTO:roundupmidland@gmail.com
END:VEVENT
BEGIN:VEVENT
DTSTART;TZID=America/Toronto:20260412T140000
DTEND;TZID=America/Toronto:20260412T153000
DTSTAMP:20260420T182005
CREATED:20240205T195928Z
LAST-MODIFIED:20260310T025257Z
UID:3418-1776002400-1776007800@barrieaa.com
SUMMARY:Monthly District 8 - Meeting
DESCRIPTION:Monthly District Meeting – All are Welcome to attend…
URL:https://barrieaa.com/events/district-8-meeting/
LOCATION:District – Angus\, 15 Fraser St\, Angus\, Ontario\, L0M 1B0\, Canada
CATEGORIES:Monthly Meeting
ATTACH;FMTTYPE=image/jpeg:https://barrieaa.com/wp-content/uploads/2024/02/Bill-Bob-Portrait.jpeg
END:VEVENT
BEGIN:VEVENT
DTSTART;TZID=America/Toronto:20260404T083000
DTEND;TZID=America/Toronto:20260404T170000
DTSTAMP:20260420T182005
CREATED:20260310T015700Z
LAST-MODIFIED:20260310T022614Z
UID:5569-1775291400-1775322000@barrieaa.com
SUMMARY:48th Annual Barrie Intergroup Spring Round-Up
DESCRIPTION:  \n \n  \n48th Annual Barrie Intergroup Spring Round-Up – Spring Into Recovery \nJoin us for the 48th Annual Barrie Intergroup Spring Round-Up on Saturday\, April 4\, 2026 at Sheba Shrine Hall\, 142 John Street\, Barrie. \nThis year’s theme is “Spring Into Recovery” — a day of fellowship\, inspiration\, and connection for members of AA\, Al-Anon\, and the recovery community. Doors open at 8:30 a.m. and the meeting begins at 9:00 a.m. \nThe cost is $40 per person\, which includes morning pastries and a catered lunch. \nWe are excited to welcome guest speakers: \n\n\nPaul D. – Hamilton \n\n\nMari G. – Markham \n\n\nMore speakers will be announced\, including Al-Anon participation. \nThroughout the day\, attendees will also be able to enjoy:\nAA & Al-Anon Literature\, Grapevine\, and a Coffee Bar \nTickets are available through Social Function Committee members:\nMatt S.\, Gemma L.\, Angel P.\, Maureen W.\, and Ally H. \nTickets are also available through the Barrie & Area Intergroup Office80 Bradford Street\, Unit 622(705) 725-8682Office hours: Monday to Friday\, 1:00 p.m. to 4:00 p.m. \nE-Transfer payment option:Send to: sfcbarrie@gmail.comSecurity answer: roundup \nPlease include your name and indicate if you would like your tickets held at the door.
URL:https://barrieaa.com/events/48th-annual-barrie-intergroup-spring-round-up/
LOCATION:Sheba Shrine Hall\, 142 John Street\, Barrie\, Ontario
CATEGORIES:RoundUp
ATTACH;FMTTYPE=image/png:https://barrieaa.com/wp-content/uploads/2026/03/Spring-Round-Up-2026-2.png
END:VEVENT
BEGIN:VEVENT
DTSTART;TZID=America/Toronto:20260321T200000
DTEND;TZID=America/Toronto:20260321T210000
DTSTAMP:20260420T182005
CREATED:20260318T191831Z
LAST-MODIFIED:20260318T191831Z
UID:5658-1774123200-1774126800@barrieaa.com
SUMMARY:Happy 40 Years\, Donna M.
DESCRIPTION:The Georgian Group is proud to celebrate Donna M. on 40 years of sobriety. \nDonna has been the long-time secretary of the Georgian Group\, and her dedication\, service\, and commitment have meant so much to our fellowship over the years. \nPlease join us as we celebrate this beautiful milestone at the Georgian Group with a potluck dinner and open meeting on: \nSaturday\, March 21Trinity Anglican Church \nAll are welcome to come celebrate Donna’s inspiring journey and years of service.
URL:https://barrieaa.com/events/happy-40-years-donna-m/
LOCATION:Trinity Anglican Church\, 24 Collier\, Barrie\, Ontario\, L4M 1G6\, Canada
ATTACH;FMTTYPE=image/jpeg:https://barrieaa.com/wp-content/uploads/2026/03/Donna-M-40th-Birthday-Invitation.jpg
ORGANIZER;CN="AA Barrie Intergroup":MAILTO:barrieaaintergroup@gmail.com
END:VEVENT
BEGIN:VEVENT
DTSTART;VALUE=DATE:20260320
DTEND;VALUE=DATE:20260323
DTSTAMP:20260420T182005
CREATED:20251203T211306Z
LAST-MODIFIED:20251203T211306Z
UID:5433-1773964800-1774223999@barrieaa.com
SUMMARY:2026 - ONTARIO REGIONAL CONFERENCE
DESCRIPTION:See attach for full details of the weekend Events
URL:https://barrieaa.com/events/2026-ontario-regional-conference/
LOCATION:ORC – 2024 Ontario Regional Conference\, 123 Queen Street West\, Toronto\, Ontario\, M5H 2M9\, Canada
CATEGORIES:Ontario Regional Conference
ATTACH;FMTTYPE=image/webp:https://barrieaa.com/wp-content/uploads/2025/12/ORC-2026-table-top-Flyer-scaled.webp
END:VEVENT
BEGIN:VEVENT
DTSTART;TZID=America/Toronto:20260313T190000
DTEND;TZID=America/Toronto:20260313T200000
DTSTAMP:20260420T182005
CREATED:20240205T195831Z
LAST-MODIFIED:20260310T022954Z
UID:3415-1773428400-1773432000@barrieaa.com
SUMMARY:Barrie Intergroup Meeting
DESCRIPTION:Monthly Intergroup Meeting – All are Welcome to attend
URL:https://barrieaa.com/events/intergroup-meeting/
LOCATION:United Church – Collier Street\, 112 Collier Street\, Barrie\, Ontario\, L4M1H3\, Canada
CATEGORIES:Monthly Meeting
ATTACH;FMTTYPE=image/webp:https://barrieaa.com/wp-content/uploads/2026/01/AA-Serenity-Prayer.webp
ORGANIZER;CN="AA Barrie Intergroup":MAILTO:barrieaaintergroup@gmail.com
END:VEVENT
BEGIN:VEVENT
DTSTART;VALUE=DATE:20260305
DTEND;VALUE=DATE:20260501
DTSTAMP:20260420T182005
CREATED:20260310T021456Z
LAST-MODIFIED:20260310T024113Z
UID:5580-1772668800-1777593599@barrieaa.com
SUMMARY:Birthday Celebrations March/April 2026
DESCRIPTION:
URL:https://barrieaa.com/events/birthday-celebrations-march-april-2026/
LOCATION:District 8\, 15 Fraser Street\, Angus\, Ontario\, L0M 1B0\, Canada
CATEGORIES:Anniversary,Medallion Celebration
ATTACH;FMTTYPE=image/webp:https://barrieaa.com/wp-content/uploads/2026/03/BIRTHDAY-CELEBRATIONS-D8-March-April-2026.webp
END:VEVENT
BEGIN:VEVENT
DTSTART;TZID=America/Toronto:20251231T190000
DTEND;TZID=America/Toronto:20260101T010000
DTSTAMP:20260420T182005
CREATED:20251126T162006Z
LAST-MODIFIED:20251126T162006Z
UID:5404-1767207600-1767229200@barrieaa.com
SUMMARY:Barrie - New Year's Eve Celebration
DESCRIPTION:Come ring in the New Year – Sober Event – Guest Speaker
URL:https://barrieaa.com/events/barrie-new-years-eve-celebration/
LOCATION:Parkview Community Centre\, 189 Blake Street\, Barrie\, Ontario\, L4M 1K5\, Canada
END:VEVENT
BEGIN:VEVENT
DTSTART;VALUE=DATE:20251225
DTEND;VALUE=DATE:20260103
DTSTAMP:20260420T182005
CREATED:20251206T154628Z
LAST-MODIFIED:20251206T154706Z
UID:5438-1766620800-1767398399@barrieaa.com
SUMMARY:Barrie Intergroup - Holiday Hours
DESCRIPTION:
URL:https://barrieaa.com/events/barrie-intergroup-holiday-hours/
LOCATION:Barrie Intergroup Office\, 80 Bradford Street\, Barrie\, Ontario\, Canada
END:VEVENT
BEGIN:VEVENT
DTSTART;TZID=America/Toronto:20251222T191500
DTEND;TZID=America/Toronto:20251222T210000
DTSTAMP:20260420T182005
CREATED:20251127T140945Z
LAST-MODIFIED:20251127T140945Z
UID:5413-1766430900-1766437200@barrieaa.com
SUMMARY:Easy Does It - Gratitude Potluck
DESCRIPTION:
URL:https://barrieaa.com/events/easy-does-it-gratitude-potluck/
LOCATION:Easy Does It\, 63 Elgin Street\, Collingwood\, Ontario\, L9Y 3L6\, Canada
END:VEVENT
BEGIN:VEVENT
DTSTART;TZID=America/Toronto:20251220T080000
DTEND;TZID=America/Toronto:20251220T170000
DTSTAMP:20260420T182005
CREATED:20251220T142837Z
LAST-MODIFIED:20251220T193359Z
UID:5443-1766217600-1766250000@barrieaa.com
SUMMARY:Birthday Celebration - December 2025 & January 2026
DESCRIPTION:
URL:https://barrieaa.com/events/birthday-celebration-december-2025-january-2026/
ATTACH;FMTTYPE=image/webp:https://barrieaa.com/wp-content/uploads/2025/12/BIRTHDAY-CELEBRATIONS-D8-December-2025-January-2026-scaled.webp
END:VEVENT
BEGIN:VEVENT
DTSTART;TZID=America/Toronto:20251212T120000
DTEND;TZID=America/Toronto:20251212T133000
DTSTAMP:20260420T182005
CREATED:20251126T160954Z
LAST-MODIFIED:20251126T160954Z
UID:5399-1765540800-1765546200@barrieaa.com
SUMMARY:Gratitude Potluck
DESCRIPTION:
URL:https://barrieaa.com/events/gratitude-potluck/
LOCATION:Brown Baggers Secular Group – First Baptiste Church\, 160 Pine Street\, Collingwood\, Ontario\, L9Y 2N9\, Canada
END:VEVENT
BEGIN:VEVENT
DTSTART;TZID=America/Toronto:20251211T210000
DTEND;TZID=America/Toronto:20251211T220000
DTSTAMP:20260420T182005
CREATED:20251105T205116Z
LAST-MODIFIED:20251107T135229Z
UID:5372-1765486800-1765490400@barrieaa.com
SUMMARY:Candlelight Meeting
DESCRIPTION:Join Us for a Candlelight Meeting – and stay afterwards for Food and Fellowship
URL:https://barrieaa.com/events/candlelight-meeting/
LOCATION:Burton Avenue – No. 37\, 37 Burton Avenue\, Barrie\, Ontario\, L4N 3J3\, Canada
END:VEVENT
BEGIN:VEVENT
DTSTART;TZID=America/Toronto:20251126T080000
DTEND;TZID=America/Toronto:20251126T170000
DTSTAMP:20260420T182005
CREATED:20251126T182101Z
LAST-MODIFIED:20251126T182101Z
UID:5410-1764144000-1764176400@barrieaa.com
SUMMARY:November - December 2025 Celebrations
DESCRIPTION:
URL:https://barrieaa.com/events/november-december-2025-celebrations/
ATTACH;FMTTYPE=application/pdf:https://barrieaa.com/wp-content/uploads/2025/11/BIRTHDAY-CELEBRATIONS-D8-Nov-Dec-2025.pdf
END:VEVENT
BEGIN:VEVENT
DTSTART;TZID=America/Toronto:20251108T170000
DTEND;TZID=America/Toronto:20251108T230000
DTSTAMP:20260420T182005
CREATED:20250918T143617Z
LAST-MODIFIED:20251030T124428Z
UID:5263-1762621200-1762642800@barrieaa.com
SUMMARY:47th Barrie Gratitude Dinner & Dance
DESCRIPTION:Join us for a great evening of Fellowship  – Dinner –  Speaker mtg  followed by Dance
URL:https://barrieaa.com/events/47th-barrie-gratitude-dinner-dance/
LOCATION:United Church – Collier Street\, 112 Collier Street\, Barrie\, Ontario\, L4M1H3\, Canada
CATEGORIES:Gratitude
END:VEVENT
BEGIN:VEVENT
DTSTART;TZID=America/Toronto:20251108T090000
DTEND;TZID=America/Toronto:20251108T133000
DTSTAMP:20260420T182005
CREATED:20250911T214615Z
LAST-MODIFIED:20250911T214615Z
UID:5214-1762592400-1762608600@barrieaa.com
SUMMARY:District 8 - Tradition Day & Potluck
DESCRIPTION:
URL:https://barrieaa.com/events/district-8-tradition-day-potluck/
LOCATION:St-Georges Anglican Church\, 9 Grandville Street\, Barrie\, Ontario\, L4N 3K1\, Canada
END:VEVENT
BEGIN:VEVENT
DTSTART;TZID=America/Toronto:20251107T180000
DTEND;TZID=America/Toronto:20251108T200000
DTSTAMP:20260420T182005
CREATED:20251106T210415Z
LAST-MODIFIED:20251106T211326Z
UID:5380-1762538400-1762632000@barrieaa.com
SUMMARY:Obituary - Willy Freeman
DESCRIPTION:https://www.dreisingerfuneralhome.com/obituaries/Willy-Freeman?obId=46312440\n\n\n\n\nIt is with heavy hearts that we share the passing of Wilfred “Willy” Freeman\, who left this world peacefully on November 5\, 2025\, after a courageous journey with cancer of the brain\, lungs\, and spine. He is survived by his cherished son Allan and his beloved grandson Henry. \nRead More on attach Obituary – \n\n\n\n\nNov7  –  Visitation\nFriday\, November 7\, 2025\n\n\nat 6:00PM – 8:00PM\nDreisinger Funeral Home Ltd.\n​62 Arthur Street\nSouth Elmira\, ON N3B 2M9 \n\n\nNov8  –  Visitation\n\n\n\n\n\n\n\n\n\n\n\nSaturday\, November 8\, 2025\n\nat 10:00AM – 11:00AM\nDreisinger Funeral Home Ltd.\n​62 Arthur Street\nSouth Elmira\, ON N3B 2M9 \n\n\nNov8  –  Funeral Service\n\n\n\n\n\n\n\n\n\n\n\n\nSaturday\, November 8\, 2025\nat 11:00AM\nDreisinger Funeral Home Ltd.\n​62 Arthur Street\nSouth Elmira\, ON N3B 2M9 \n\n\n\n\nA reception will follow the service
URL:https://barrieaa.com/events/obituary-willy-freeman/
END:VEVENT
BEGIN:VEVENT
DTSTART;TZID=America/Toronto:20250914T140000
DTEND;TZID=America/Toronto:20250914T160000
DTSTAMP:20260420T182005
CREATED:20250906T170744Z
LAST-MODIFIED:20250906T170744Z
UID:5143-1757858400-1757865600@barrieaa.com
SUMMARY:District 8 Meeting - Is Relocating
DESCRIPTION:
URL:https://barrieaa.com/events/district-8-meeting-is-relocating/
LOCATION:District 8 – Relocation\, 15 Fraser Street\, Angus\, Ontario\, L0M 1B0\, Canada
END:VEVENT
BEGIN:VEVENT
DTSTART;TZID=America/Toronto:20241001T200000
DTEND;TZID=America/Toronto:20241001T210000
DTSTAMP:20260420T182005
CREATED:20240905T112910Z
LAST-MODIFIED:20240905T112910Z
UID:4622-1727812800-1727816400@barrieaa.com
SUMMARY:Coming Soon - New MEETING  October 1st @ 8:00pm "Tuesday12 & 12 Study Group
DESCRIPTION:This is a new group starting up to read and discuss the 12 Steps \nThe first Tuesday of the month we will discuss the 12th Tradition of the month \n  \n 
URL:https://barrieaa.com/events/coming-soon-new-meeting-october-1st-800pm-tuesday12-12-study-group/
CATEGORIES:Monthly Meeting
END:VEVENT
END:VCALENDAR