BEGIN:VCALENDAR
VERSION:2.0
PRODID:-//Barrie AA Intergroup - ECPv6.15.11//NONSGML v1.0//EN
CALSCALE:GREGORIAN
METHOD:PUBLISH
X-WR-CALNAME:Barrie AA Intergroup
X-ORIGINAL-URL:https://barrieaa.com
X-WR-CALDESC:Events for Barrie AA Intergroup
REFRESH-INTERVAL;VALUE=DURATION:PT1H
X-Robots-Tag:noindex
X-PUBLISHED-TTL:PT1H
BEGIN:VTIMEZONE
TZID:America/Toronto
BEGIN:DAYLIGHT
TZOFFSETFROM:-0500
TZOFFSETTO:-0400
TZNAME:EDT
DTSTART:20230312T070000
END:DAYLIGHT
BEGIN:STANDARD
TZOFFSETFROM:-0400
TZOFFSETTO:-0500
TZNAME:EST
DTSTART:20231105T060000
END:STANDARD
BEGIN:DAYLIGHT
TZOFFSETFROM:-0500
TZOFFSETTO:-0400
TZNAME:EDT
DTSTART:20240310T070000
END:DAYLIGHT
BEGIN:STANDARD
TZOFFSETFROM:-0400
TZOFFSETTO:-0500
TZNAME:EST
DTSTART:20241103T060000
END:STANDARD
BEGIN:DAYLIGHT
TZOFFSETFROM:-0500
TZOFFSETTO:-0400
TZNAME:EDT
DTSTART:20250309T070000
END:DAYLIGHT
BEGIN:STANDARD
TZOFFSETFROM:-0400
TZOFFSETTO:-0500
TZNAME:EST
DTSTART:20251102T060000
END:STANDARD
BEGIN:DAYLIGHT
TZOFFSETFROM:-0500
TZOFFSETTO:-0400
TZNAME:EDT
DTSTART:20260308T070000
END:DAYLIGHT
BEGIN:STANDARD
TZOFFSETFROM:-0400
TZOFFSETTO:-0500
TZNAME:EST
DTSTART:20261101T060000
END:STANDARD
BEGIN:DAYLIGHT
TZOFFSETFROM:-0500
TZOFFSETTO:-0400
TZNAME:EDT
DTSTART:20270314T070000
END:DAYLIGHT
BEGIN:STANDARD
TZOFFSETFROM:-0400
TZOFFSETTO:-0500
TZNAME:EST
DTSTART:20271107T060000
END:STANDARD
BEGIN:DAYLIGHT
TZOFFSETFROM:-0500
TZOFFSETTO:-0400
TZNAME:EDT
DTSTART:20280312T070000
END:DAYLIGHT
BEGIN:STANDARD
TZOFFSETFROM:-0400
TZOFFSETTO:-0500
TZNAME:EST
DTSTART:20281105T060000
END:STANDARD
BEGIN:DAYLIGHT
TZOFFSETFROM:-0500
TZOFFSETTO:-0400
TZNAME:EDT
DTSTART:20290311T070000
END:DAYLIGHT
BEGIN:STANDARD
TZOFFSETFROM:-0400
TZOFFSETTO:-0500
TZNAME:EST
DTSTART:20291104T060000
END:STANDARD
END:VTIMEZONE
BEGIN:VEVENT
DTSTART;VALUE=DATE:20240305
DTEND;VALUE=DATE:20280306
DTSTAMP:20260420T165457
CREATED:20240305T135746Z
LAST-MODIFIED:20240827T155044Z
UID:4251-1709596800-1835913599@barrieaa.com
SUMMARY:Barrie Intergroup - Call Centre Volunteers NEEDED
DESCRIPTION:Barrie and Intergroup Office\nJuly 31st\, 2024\nDear friends in Sobriety\, \nYour Barrie and Area Intergroup is committed to providing AA information in an organized way to promote and support service within our District (08). \nCurrently\, our office is undergoing a reorganization process. The Barrie and Area Intergroup serves as the representative voice for all meeting groups in our district\, and our effectiveness is contingent upon the engagement of these groups. We can only do as well as the Groups allow us.  We encourage you to GET INVOLVED. \nAs part of our restructuring efforts\, we need to modify the phone volunteer shifts. To facilitate this change\, we request the names and contact numbers of individuals interested in serving within the Intergroup. We aim to establish a call forwarding system for weekday evenings (Monday to Friday) starting at 4 PM and continuing until the following day\, 10 AM. Weekend calls will still be managed from Friday at 4 PM until Monday at 10 AM. Training and information will be provided either in person (preferred) or remotely. Please note that a minimum of one year of sobriety is required for this volunteer position. With sufficient volunteers\, we anticipate that the ‘on-call’ phone responsibilities can be rotated among participants. The greater the number of willing volunteers\, the less individual duty time will be necessary to cover the shifts. \nWe are also seeking ‘in-office’ phone volunteers for the shifts from 10 AM to 1 PM (Monday to Friday) and from 1 PM to 4 PM (Wednesday). \nYour participation and willingness to serve are crucial in determining how effectively our Intergroup office can offer the necessary support and services to those who reach out to us. \nShould you have any questions or require clarification\, please do not hesitate to contact me. \nYours in love and service\, \nKrystyna W \nOffice Coordinator \nIntergroup Off.:  (705)  725-8682 \n647-522-1417 \nkjagub@gmail.com \n  \nBarrie Intergroup is URGENTLY looking for volunteers for the Call Centre.  We need people for the In-Office phone line shift (max 3 hrs) or weekend On-Call shifts from the comfort of your personal phone \nMinimum of One (1) year Sobriety \nINTERRESTED IN VOLUNTEERING?\nPlease join us\, Training provided. \nFor further information contact – Krystyna W. @ (647) 522-1417 or via email @ kjagub@gmail.com \nOr call the Barrie Intergroup office at (705) 725-8682
URL:https://barrieaa.com/events/barrie-intergroup-call-centre-volunteers-needed/
LOCATION:Barrie Intergroup Office\, 80 Bradford Street\, Barrie\, Ontario\, Canada
ATTACH;FMTTYPE=image/jpeg:https://barrieaa.com/wp-content/uploads/2024/03/0xccpibl3m.jpg
ORGANIZER;CN="Barrie AA - Office Coordinator (Krystyna W.)":MAILTO:kjagub@gmail.com
END:VEVENT
BEGIN:VEVENT
DTSTART;VALUE=DATE:20260312
DTEND;VALUE=DATE:20270101
DTSTAMP:20260420T165457
CREATED:20260312T154149Z
LAST-MODIFIED:20260312T154219Z
UID:5638-1773273600-1798761599@barrieaa.com
SUMMARY:Position Available — Secretary (Minimum 2 years sobriety)
DESCRIPTION:Position Available — Secretary \n(Minimum 2 years sobriety) \nThe Secretary supports Barrie Intergroup by helping maintain clear communication\, accurate records\, and organized committee information. \nServing at the Intergroup level offers so much simply by being present\, listening\, learning\, meeting members from different groups\, and gaining a deeper understanding of how Intergroup serves the fellowship. \nKey Qualities \n\nReliable and organized\nAble to listen carefully and record information accurately\nRespectful of AA Traditions and anonymity\nWilling to communicate and follow through in a timely manner\n\nBasic Skills \n\nMust have a minimum of 2 years sobriety\nResponsible for recording the minutes of the Intergroup Meetings\nFollowing review by the Chairperson\, distribute the minutes within 2 weeks of the Intergroup Meeting to the Committee and Representatives\nInform the Webmaster of any pertinent information\, such as Workshops\, Conventions\, and Conferences\nKeep a Motion Book to record all motions passed by Intergroup\nGet mail and distribute and answer mail when appropriate\nMaintain the Intergroup committee directory\nMaintain the Intergroup files at the Central Office\n\nAdministrative experience is helpful\, but willingness\, consistency\, and a spirit of service are most important. \nWhat This Role Offers \n\nGrowth in confidence and service experience\nA deeper understanding of Intergroup operations\nOpportunity to support communication\, unity\, and service\nA meaningful way to contribute to AA in the Barrie area\nOngoing support\, you are never doing it alone\n\n  \nIf interested\, please contact your Intergroup Chair Randy S or Alternate Chair Brandon F. \n  \nNext INTERGROUP MEETING \n112 Collier St. Barrie\, ON \nFriday\, March 13th\, 2026 @ 7:00 pm
URL:https://barrieaa.com/events/position-available-secretary-minimum-2-years-sobriety/
LOCATION:Barrie Intergroup Office\, 80 Bradford Street\, Barrie\, Ontario\, Canada
CATEGORIES:Vacant Postitions
ATTACH;FMTTYPE=image/webp:https://barrieaa.com/wp-content/uploads/2026/03/Posting-AA-Barrie-Intergroup-Secretary-Vacant.webp
ORGANIZER;CN="AA Barrie Intergroup":MAILTO:barrieaaintergroup@gmail.com
END:VEVENT
BEGIN:VEVENT
DTSTART;TZID=America/Toronto:20260607T170000
DTEND;TZID=America/Toronto:20260607T183000
DTSTAMP:20260420T165457
CREATED:20260329T155556Z
LAST-MODIFIED:20260329T155556Z
UID:5724-1780851600-1780857000@barrieaa.com
SUMMARY:4th Annual BBQ for Just Another Sober Sunday
DESCRIPTION:Join us for the 4th Annual BBQ for Just Another Sober Sunday on Sunday\, June 7 at 24 Collier Street\, Barrie for an evening of fellowship\, food\, and recovery. \nThe BBQ will take place from 5:00 p.m. to 6:30 p.m.\, followed by the meeting at 6:30 p.m. This special event will feature Mel C. from Toronto as guest speaker. \nAttendees can enjoy hot dogs\, hamburgers\, sausages\, refreshments\, and more while connecting with others in the spirit of unity and sobriety. \nCome out and celebrate just another sober Sunday with good food\, meaningful fellowship\, and an inspiring message of recovery.
URL:https://barrieaa.com/events/4th-annual-bbq-for-just-another-sober-sunday/
LOCATION:Just Another Sober Sunday\, 24 Collier St\, Barrie\, On\, L4M 1G6\, Canada
ATTACH;FMTTYPE=image/png:https://barrieaa.com/wp-content/uploads/2026/03/BBQ-Just-Another-Sober-Sunday-Jun7-26.png
END:VEVENT
BEGIN:VEVENT
DTSTART;VALUE=DATE:20260815
DTEND;VALUE=DATE:20260816
DTSTAMP:20260420T165457
CREATED:20260329T161453Z
LAST-MODIFIED:20260329T161453Z
UID:5728-1786752000-1786838399@barrieaa.com
SUMMARY:26th Annual CSW AA Roundup with Al-Anon
DESCRIPTION:Join us for the 26th Annual Creemore–Stayner–Wasaga Beach A.A. Roundup with Al-Anon on Saturday\, August 15\, 2026 at the Royal Canadian Legion\, 27 Wellington St. W.\, Creemore\, Ontario. Please note this is a new venue for this year’s event. \nThis year’s theme is “One Drink One Drunk” — a day centered on fellowship\, recovery\, and shared experience with members of A.A. and Al-Anon. \nDoors open at 8:30 a.m. for registration and coffee\, and the meeting begins at 9:30 a.m. with the first speaker. \nThe day will include a Special Banquet Speaker (to be announced)\, along with many other A.A. and Al-Anon speakers sharing their experience\, strength\, and hope. \nTicket options: \n\nLunch (on site): $15\nDinner & Day Pass: $35\nDay Pass (at the door): $10\n\nPlease note that pre-registration for dinner is required by August 7\, 2026. \nFor more information\, please contact Amanda S. at (416) 459-5960. \nE-transfer for dinner tickets:Send to: CSWroundup@gmail.com \nCome out and enjoy a meaningful day of recovery\, connection\, and fellowship in a beautiful new setting.
URL:https://barrieaa.com/events/26th-annual-csw-aa-roundup-with-al-anon/
LOCATION:Royal Canadian Legion\, 27 Wellington St. W.\, Creemore\, Ontario\, L0M 1G0\, Canada
ATTACH;FMTTYPE=image/png:https://barrieaa.com/wp-content/uploads/2026/03/CSW-2026-ROUNDUP.png
ORGANIZER;CN="CWS Round Up":MAILTO:CSWroundup@gmail.com
END:VEVENT
END:VCALENDAR