BEGIN:VCALENDAR
VERSION:2.0
PRODID:-//Barrie AA Intergroup - ECPv6.15.11//NONSGML v1.0//EN
CALSCALE:GREGORIAN
METHOD:PUBLISH
X-WR-CALNAME:Barrie AA Intergroup
X-ORIGINAL-URL:https://barrieaa.com
X-WR-CALDESC:Events for Barrie AA Intergroup
REFRESH-INTERVAL;VALUE=DURATION:PT1H
X-Robots-Tag:noindex
X-PUBLISHED-TTL:PT1H
BEGIN:VTIMEZONE
TZID:America/Toronto
BEGIN:DAYLIGHT
TZOFFSETFROM:-0500
TZOFFSETTO:-0400
TZNAME:EDT
DTSTART:20230312T070000
END:DAYLIGHT
BEGIN:STANDARD
TZOFFSETFROM:-0400
TZOFFSETTO:-0500
TZNAME:EST
DTSTART:20231105T060000
END:STANDARD
BEGIN:DAYLIGHT
TZOFFSETFROM:-0500
TZOFFSETTO:-0400
TZNAME:EDT
DTSTART:20240310T070000
END:DAYLIGHT
BEGIN:STANDARD
TZOFFSETFROM:-0400
TZOFFSETTO:-0500
TZNAME:EST
DTSTART:20241103T060000
END:STANDARD
BEGIN:DAYLIGHT
TZOFFSETFROM:-0500
TZOFFSETTO:-0400
TZNAME:EDT
DTSTART:20250309T070000
END:DAYLIGHT
BEGIN:STANDARD
TZOFFSETFROM:-0400
TZOFFSETTO:-0500
TZNAME:EST
DTSTART:20251102T060000
END:STANDARD
BEGIN:DAYLIGHT
TZOFFSETFROM:-0500
TZOFFSETTO:-0400
TZNAME:EDT
DTSTART:20260308T070000
END:DAYLIGHT
BEGIN:STANDARD
TZOFFSETFROM:-0400
TZOFFSETTO:-0500
TZNAME:EST
DTSTART:20261101T060000
END:STANDARD
END:VTIMEZONE
BEGIN:VEVENT
DTSTART;TZID=America/Toronto:20251212T120000
DTEND;TZID=America/Toronto:20251212T133000
DTSTAMP:20260420T203149
CREATED:20251126T160954Z
LAST-MODIFIED:20251126T160954Z
UID:5399-1765540800-1765546200@barrieaa.com
SUMMARY:Gratitude Potluck
DESCRIPTION:
URL:https://barrieaa.com/events/gratitude-potluck/
LOCATION:Brown Baggers Secular Group – First Baptiste Church\, 160 Pine Street\, Collingwood\, Ontario\, L9Y 2N9\, Canada
END:VEVENT
BEGIN:VEVENT
DTSTART;TZID=America/Toronto:20251211T210000
DTEND;TZID=America/Toronto:20251211T220000
DTSTAMP:20260420T203149
CREATED:20251105T205116Z
LAST-MODIFIED:20251107T135229Z
UID:5372-1765486800-1765490400@barrieaa.com
SUMMARY:Candlelight Meeting
DESCRIPTION:Join Us for a Candlelight Meeting – and stay afterwards for Food and Fellowship
URL:https://barrieaa.com/events/candlelight-meeting/
LOCATION:Burton Avenue – No. 37\, 37 Burton Avenue\, Barrie\, Ontario\, L4N 3J3\, Canada
END:VEVENT
BEGIN:VEVENT
DTSTART;TZID=America/Toronto:20251126T080000
DTEND;TZID=America/Toronto:20251126T170000
DTSTAMP:20260420T203149
CREATED:20251126T182101Z
LAST-MODIFIED:20251126T182101Z
UID:5410-1764144000-1764176400@barrieaa.com
SUMMARY:November - December 2025 Celebrations
DESCRIPTION:
URL:https://barrieaa.com/events/november-december-2025-celebrations/
LOCATION:Ontario
ATTACH;FMTTYPE=application/pdf:https://barrieaa.com/wp-content/uploads/2025/11/BIRTHDAY-CELEBRATIONS-D8-Nov-Dec-2025.pdf
END:VEVENT
BEGIN:VEVENT
DTSTART;TZID=America/Toronto:20251108T170000
DTEND;TZID=America/Toronto:20251108T230000
DTSTAMP:20260420T203149
CREATED:20250918T143617Z
LAST-MODIFIED:20251030T124428Z
UID:5263-1762621200-1762642800@barrieaa.com
SUMMARY:47th Barrie Gratitude Dinner & Dance
DESCRIPTION:Join us for a great evening of Fellowship  – Dinner –  Speaker mtg  followed by Dance
URL:https://barrieaa.com/events/47th-barrie-gratitude-dinner-dance/
LOCATION:United Church – Collier Street\, 112 Collier Street\, Barrie\, Ontario\, L4M1H3\, Canada
CATEGORIES:Gratitude
END:VEVENT
BEGIN:VEVENT
DTSTART;TZID=America/Toronto:20251108T090000
DTEND;TZID=America/Toronto:20251108T133000
DTSTAMP:20260420T203149
CREATED:20250911T214615Z
LAST-MODIFIED:20250911T214615Z
UID:5214-1762592400-1762608600@barrieaa.com
SUMMARY:District 8 - Tradition Day & Potluck
DESCRIPTION:
URL:https://barrieaa.com/events/district-8-tradition-day-potluck/
LOCATION:St-Georges Anglican Church\, 9 Grandville Street\, Barrie\, Ontario\, L4N 3K1\, Canada
END:VEVENT
BEGIN:VEVENT
DTSTART;TZID=America/Toronto:20251107T180000
DTEND;TZID=America/Toronto:20251108T200000
DTSTAMP:20260420T203149
CREATED:20251106T210415Z
LAST-MODIFIED:20251106T211326Z
UID:5380-1762538400-1762632000@barrieaa.com
SUMMARY:Obituary - Willy Freeman
DESCRIPTION:https://www.dreisingerfuneralhome.com/obituaries/Willy-Freeman?obId=46312440\n\n\n\n\nIt is with heavy hearts that we share the passing of Wilfred “Willy” Freeman\, who left this world peacefully on November 5\, 2025\, after a courageous journey with cancer of the brain\, lungs\, and spine. He is survived by his cherished son Allan and his beloved grandson Henry. \nRead More on attach Obituary – \n\n\n\n\nNov7  –  Visitation\nFriday\, November 7\, 2025\n\n\nat 6:00PM – 8:00PM\nDreisinger Funeral Home Ltd.\n​62 Arthur Street\nSouth Elmira\, ON N3B 2M9 \n\n\nNov8  –  Visitation\n\n\n\n\n\n\n\n\n\n\n\nSaturday\, November 8\, 2025\n\nat 10:00AM – 11:00AM\nDreisinger Funeral Home Ltd.\n​62 Arthur Street\nSouth Elmira\, ON N3B 2M9 \n\n\nNov8  –  Funeral Service\n\n\n\n\n\n\n\n\n\n\n\n\nSaturday\, November 8\, 2025\nat 11:00AM\nDreisinger Funeral Home Ltd.\n​62 Arthur Street\nSouth Elmira\, ON N3B 2M9 \n\n\n\n\nA reception will follow the service
URL:https://barrieaa.com/events/obituary-willy-freeman/
LOCATION:Ontario
END:VEVENT
BEGIN:VEVENT
DTSTART;TZID=America/Toronto:20250914T140000
DTEND;TZID=America/Toronto:20250914T160000
DTSTAMP:20260420T203149
CREATED:20250906T170744Z
LAST-MODIFIED:20250906T170744Z
UID:5143-1757858400-1757865600@barrieaa.com
SUMMARY:District 8 Meeting - Is Relocating
DESCRIPTION:
URL:https://barrieaa.com/events/district-8-meeting-is-relocating/
LOCATION:District 8 – Relocation\, 15 Fraser Street\, Angus\, Ontario\, L0M 1B0\, Canada
END:VEVENT
BEGIN:VEVENT
DTSTART;TZID=America/Toronto:20241001T200000
DTEND;TZID=America/Toronto:20241001T210000
DTSTAMP:20260420T203149
CREATED:20240905T112910Z
LAST-MODIFIED:20240905T112910Z
UID:4622-1727812800-1727816400@barrieaa.com
SUMMARY:Coming Soon - New MEETING  October 1st @ 8:00pm "Tuesday12 & 12 Study Group
DESCRIPTION:This is a new group starting up to read and discuss the 12 Steps \nThe first Tuesday of the month we will discuss the 12th Tradition of the month \n  \n 
URL:https://barrieaa.com/events/coming-soon-new-meeting-october-1st-800pm-tuesday12-12-study-group/
LOCATION:Ontario
CATEGORIES:Monthly Meeting
END:VEVENT
END:VCALENDAR